BEGIN:VCALENDAR
VERSION:2.0
PRODID:-//https://www.stiftsmusik.de///NONSGML kigkonsult.se iCalcreator 2.10.15//
METHOD:PUBLISH
BEGIN:VEVENT
UID:20260421T153939CEST-7697XRzucr@https://www.stiftsmusik.de/
DTSTAMP:20260421T133939Z
DESCRIPTION:„Denn er hat seinen Engeln“ – Nachtkonzert mit dem Kammerchor d
 er Stiftsbasilika\nIm traditionellen Abschlusskonzert in der Stiftsbasilik
 a bringt der Kammerchor Werke zu den Themen „Engel“ und „Abend“ zu Gehör: 
 Es erklingen neben geistlichen Motetten\, die die Zuhörer in den Schutz de
 r Engel einhüllen\, romantische und moderne Chorwerke von Johann Sebastian
  Bach\, Felix Mendelssohn Bartholdy und Ēriks Ešenvalds. Ein intimer\, tie
 fgehender Ausklang einer wunderbaren Museumsnacht erwartet Sie als Zuhörer
 .\nAm Klavier musiziert KMD Michael Porr (Leverkusen)\, die Leitung hat St
 ifts- &amp\; Stadtkantorin Caroline Prozeller inne.\nEintritt zu allen Ver
 anstaltungen frei!\n&nbsp\;\nWir danken herzlich unseren Förderern\, Unter
 stützern und Sponsoren:Förderverein der Stiftsmusik &amp\; Kulturamt der S
 tadt Aschaffenburg https://www.stiftsmusik.de/aktuelles/termine/event/437-
 27-aschaffenburger-kulturtage-–-museumsnacht-„denn-er-hat-seinen-engeln“-n
 achtkonzert-mit-dem-kammerchor
DTSTART:20260711T210000Z
DTEND:20260711T214500Z
LOCATION:Stiftsbasilika St. Peter und Alexander (Stiftsplatz\, 63739\, Asch
 affenburg\, Bayern)
SUMMARY:27. Aschaffenburger Kulturtage – Museumsnacht: „Denn er hat seinen 
 Engeln“ Nachtkonzert mit dem Kammerchor
URL:https://www.stiftsmusik.de/aktuelles/termine/event/437-27-aschaffenburg
 er-kulturtage-–-museumsnacht-„denn-er-hat-seinen-engeln“-nachtkonzert-mit-
 dem-kammerchor
END:VEVENT
END:VCALENDAR
