BEGIN:VCALENDAR
VERSION:2.0
PRODID:-//https://www.stiftsmusik.de///NONSGML kigkonsult.se iCalcreator 2.10.15//
METHOD:PUBLISH
BEGIN:VEVENT
UID:20260421T155143CEST-1110XZI8zG@https://www.stiftsmusik.de/
DTSTAMP:20260421T135143Z
DESCRIPTION:Mit Klaus Setzer und Caroline Prozeller lädt die Stiftsmusik zu
  einem ungewöhnlichen Konzert mit Werken und Arrangements für Euphonium un
 d Orgel ein: Da kann ein Blasinstrument mal wie ein Cello klingen\, da kan
 n die Orgel mal ätherisch-entrückt tönen\, da können mal Engel durch den R
 aum schweben – die Träume fangen an zu tanzen… „Dreamdance“ eben!\nEintrit
 t zu allen Veranstaltungen frei!\n&nbsp\;\nWir danken herzlich unseren För
 derern\, Unterstützern und Sponsoren:Förderverein der Stiftsmusik &amp\; K
 ulturamt der Stadt Aschaffenburg https://www.stiftsmusik.de/aktuelles/term
 ine/event/438-27-aschaffenburger-kulturtage-–-museumsnacht-„dreamdance-–-m
 usik-für-euphonium-und-orgel“
DTSTART:20260711T190000Z
DTEND:20260711T194500Z
LOCATION:Stiftsbasilika St. Peter und Alexander (Stiftsplatz\, 63739\, Asch
 affenburg\, Bayern)
SUMMARY:27. Aschaffenburger Kulturtage – Museumsnacht: „Dreamdance – Musik 
 für Euphonium und Orgel“
URL:https://www.stiftsmusik.de/aktuelles/termine/event/438-27-aschaffenburg
 er-kulturtage-–-museumsnacht-„dreamdance-–-musik-für-euphonium-und-orgel“
END:VEVENT
END:VCALENDAR
