BEGIN:VCALENDAR
VERSION:2.0
PRODID:-//https://www.stiftsmusik.de///NONSGML kigkonsult.se iCalcreator 2.10.15//
METHOD:PUBLISH
BEGIN:VEVENT
UID:20260421T154722CEST-6736Za0sNZ@https://www.stiftsmusik.de/
DTSTAMP:20260421T134722Z
DESCRIPTION:„Wachsen zum Licht“\nDen Auftakt zur Museumsnacht gestalten die
  Stiftschorknaben und -mädchen gemeinsam mit dem Jugendchor und formen Hör
 gewohnheiten auf unterschiedliche Weise um. Sei es ein ungewöhnliches Arra
 ngement\, sei es der Chorklang an sich\, sei es Improvisation – die jungen
  Stimmen „spielen“ mit Erwartungshaltungen und der Musik an sich.\nAm Klav
 ier musiziert Christopher Miltenberger\, die Leitung hat Stifts- &amp\; St
 adtkantorin Caroline Prozeller inne.\nEintritt zu allen Veranstaltungen fr
 ei!\n&nbsp\;\nWir danken herzlich unseren Förderern\, Unterstützern und Sp
 onsoren:Förderverein der Stiftsmusik &amp\; Kulturamt der Stadt Aschaffenb
 urg https://www.stiftsmusik.de/aktuelles/termine/event/439-27-aschaffenbur
 ger-kulturtage-–-museumsnacht-jugendchorkonzert-zum-auftakt
DTSTART:20260711T170000Z
DTEND:20260711T174500Z
LOCATION:Stiftsbasilika St. Peter und Alexander (Stiftsplatz\, 63739\, Asch
 affenburg\, Bayern)
SUMMARY:27. Aschaffenburger Kulturtage – Museumsnacht: Jugendchorkonzert zu
 m Auftakt
URL:https://www.stiftsmusik.de/aktuelles/termine/event/439-27-aschaffenburg
 er-kulturtage-–-museumsnacht-jugendchorkonzert-zum-auftakt
END:VEVENT
END:VCALENDAR
