BEGIN:VCALENDAR
VERSION:2.0
PRODID:-//https://www.stiftsmusik.de///NONSGML kigkonsult.se iCalcreator 2.10.15//
METHOD:PUBLISH
BEGIN:VEVENT
UID:20260421T174855CEST-0482vifTea@https://www.stiftsmusik.de/
DTSTAMP:20260421T154855Z
DESCRIPTION:Am Pfingstsonntag\, 24. Mai 2026 gestaltet die Querflöstistin B
 arbara Schedelbeck gemeinsam mit Stifts- &amp\; Stadtantorin Caroline Proz
 eller den Festgottesdienst musikalisch mit. https://www.stiftsmusik.de/akt
 uelles/termine/event/441-pfingstsonntag-hochamt
DTSTART:20260524T083000Z
DTEND:20260524T094500Z
LOCATION:Stiftsbasilika St. Peter und Alexander (Stiftsplatz\, 63739\, Asch
 affenburg\, Bayern)
SUMMARY:Pfingstsonntag - Hochamt
URL:https://www.stiftsmusik.de/aktuelles/termine/event/441-pfingstsonntag-h
 ochamt
END:VEVENT
END:VCALENDAR
